Workbook
Name __FDS_UNIQUE_RANGE_ID_GENERATOR_COUNTER: 27
Name __FDS_USED_FOR_REUSING_RANGE_IDS_RECYCLE: {15,8,14,7,13,6,12,5,11,4,10,3,9,2,1,16}
Name __for1991: [1]Lookups!#REF!
Name __for1992: [1]Lookups!#REF!
Name __for1993: [1]Lookups!#REF!
Name __for1994: [1]Lookups!#REF!
Name __for1995: [1]Lookups!#REF!
Name __QTR1: "4Q, 1999"
Name __Top40: [2]Lookups!$B$3:$C$132
Name _1: #REF!
Name _1_0EBITDA_Sh: [3]NOPAT_VDF!#REF!
Name _10_._0Restructuring_char: '[3]Invested capital_VDF'!#REF!
Name _10_0NOPAT_Sh: [3]NOPAT_VDF!#REF!
Name _10NOPAT_Sh: [3]NOPAT_VDF!#REF!
Name _11_._0SGA_gro: [3]NOPAT_VDF!#REF!
Name _11_0Purch: [4]MERGER!#REF!
Name _11EBITDA_Sh: [3]NOPAT_VDF!#REF!
Name _12_._0SGA_gro: [3]NOPAT_VDF!#REF!
Name _12_0Purch: [4]MERGER!#REF!
Name _12NOPAT_Sh: [3]NOPAT_VDF!#REF!
Name _13_._0Shares_repurchase_liabil: '[3]Invested capital_VDF'!#REF!
Name _13_0Purch: [4]MERGER!#REF!
Name _14_._0Shares_repurchase_liabil: '[3]Invested capital_VDF'!#REF!
Name _14_0Purch: [4]MERGER!#REF!
Name _15_0.CHA: '[5]Chart 2'!#REF!,'[5]Chart 2'!$A$1:$P$10
Name _15_0Purch: [4]MERGER!#REF!
Name _16_0.CHA: '[5]Chart 2'!#REF!,'[5]Chart 2'!$A$1:$P$10
Name _16_0Purch: [4]MERGER!#REF!
Name _17_0_for1: [6]Lookups!#REF!
Name _17_0Purch: [4]MERGER!#REF!
Name _18_0_for1: [7]Lookups!#REF!
Name _18_0Purch: [4]MERGER!#REF!
Name _18Purch: [4]MERGER!#REF!
Name _19_._0Gross_inc_gro: [3]NOPAT_VDF!#REF!
Name _19_0_GT10Mfo: [6]Lookups!#REF!
Name _19_0Purch: [4]MERGER!#REF!
Name _1994: #REF!
Name _1995: #REF!
Name _1996: #REF!
Name _1997: #REF!
Name _1998: #REF!
Name _1999: #REF!
Name _1Q94: #REF!
Name _1Q95: #REF!
Name _2: #REF!
Name _2_0EBITDA_Sh: [3]NOPAT_VDF!#REF!
Name _20_._0Gross_inc_gro: [3]NOPAT_VDF!#REF!
Name _20_0_GT10Mfo: [7]Lookups!#REF!
Name _20_0Purch: [4]MERGER!#REF!
Name _2000ADJ_FV_EBITDA: [8]Summary!#REF!
Name _2000ADJ_FV_SALES: [8]Summary!#REF!
Name _2000CFPS_ADJ: #REF!
Name _2000EBITDA_ADJ: [8]Summary!#REF!
Name _2000SALES_ADJ: [8]Summary!#REF!
Name _2000TAX_RATE: #REF!
Name _2001ADJ_FV_EBITDA: [8]Summary!#REF!
Name _2001ADJ_FV_EBITDA_eu: '[8](e)Summary'!#REF!
Name _2001ADJ_FV_SALES: [8]Summary!#REF!
Name _2001ADJ_FV_SALES_eu: '[8](e)Summary'!#REF!
Name _2001Avg_Market_Cap_eu: '[8](e)Summary'!$N$5

Sheet Financial One Pager
O1: Base case | T1: Bear case
K2: EBITDA margin | P2: 0.21 | R2: =+P2 -> 0.21 | U2: 0.2 | W2: =+U2 -> 0.2
K3: Capex % rev | P3: 0.04 | R3: =+P3 -> 0.04 | U3: 0.05 | W3: =+U3 -> 0.05
I8: SiriusXM | J8: SiriusXM | O8: Recommendation: | Y8: Issuer Public Ratings: | AB8: =TODAY() -> 46283
D9: Shraddha Deshmukh | I9: {Sector-Subsector} | J9: Communication Services | O9: MP, with a positive/deleveraging bias | Y9: Moody’s: Ba3 | Fitch: NR | S&P: BB+
O11: Base Case | T11: Bear Case | AD11: xEBITDA
C12: Financials ($ m) | G12: 2018Y | H12: 2019Y | I12: 2020Y | J12: 2023Y | K12: 2024Y | L12: 2025Y | M12: LTM | O12: 2026E | P12: 2027E | Q12: 2028E | R12: 2027E | T12: 2026E | U12: 2027E | V12: 2028E | W12: =+R12 -> 2027E | Y12: Capitalization ($mm) | Z12: Interest Rate | AA12: Maturity | AC12: =+M12 -> LTM
G13: 43330 | W13: 46617 | Y13: Convertible Senior Notes | Z13: 0.0375 | AA13: 46827 | AC13: 597 | AD13: 0.22x | AK13: Instrument | AL13: Interest rate | AM13: Maturity | AN13: LTM amount ($mm) | AO13: x EBITDA
C14: Operating Summary | Y14: Delayed Draw Incremental Term Loan | Z14: SOFR + applicable margin | AA14: 46639 | AC14: 386 | AD14: 0.14x | AK14: Convertible Senior Notes | AL14: 0.0375 | AM14: 3/15/2028 | AN14: 597 | AO14: 0.22x
C15: SiriusXM | W15: =[129]Workings!X24-[129]Workings!J143 -> 110714.94 | Y15: Senior Secured Revolver | Z15: SOFR + applicable margin | AA15: 47726 | AC15: 70 | AD15: 0.03x | AK15: Delayed Draw Incremental Term Loan | AL15: SOFR + applicable margin | AM15: 46639 | AN15: 386 | AO15: 0.14x
C16: Subscriber revenue | J16: =6342 -> 6342 | K16: =6076 -> 6076 | L16: =5960 -> 5960 | M16: =1483-1470+L16 -> 5973 | O16: ='Base Case Forecast '!K21 -> 5985.9748 | P16: ='Base Case Forecast '!L21 -> 6020.2276 | Q16: ='Base Case Forecast '!M21 -> 6030.2148 | T16: ='Bear Case Forecast'!K20 -> 5896.2865 | U16: ='Bear Case Forecast'!L20 -> 5881.8062 | V16: ='Bear Case Forecast'!M20 -> 5848.3485 | W16: =[129]Workings!X26 -> 22900.013 | Y16: Senior Notes due 2027 | Z16: 0.05 | AA16: 46600 | AC16: 1248 | AD16: 0.46x | AK16: Senior Secured Revolver | AL16: SOFR + applicable margin | AM16: 8/31/2030 | AN16: 70 | AO16: 0.03x
C17: Advertising revenue | J17: =169 -> 169 | K17: =167 -> 167 | L17: =157 -> 157 | M17: =35-39+L17 -> 153 | O17: ='Base Case Forecast '!K22 -> 157 | P17: ='Base Case Forecast '!L22 -> 157 | Q17: ='Base Case Forecast '!M22 -> 157 | T17: ='Bear Case Forecast'!K21 -> 157 | U17: ='Bear Case Forecast'!L21 -> 157 | V17: ='Bear Case Forecast'!M21 -> 157 | W17: =[129]Workings!X28 -> 9018.6037 | Y17: Senior Notes due 2028 | Z17: 0.04 | AA17: 46949 | AC17: 1992 | AD17: 0.74x | AK17: Senior Notes due 2027 | AL17: 0.05 | AM17: 46395 | AN17: 1248 | AO17: 0.46x
C18: Equipment revenue | J18: 193 | K18: 182 | L18: 178 | M18: =41-41+L18 -> 178 | O18: ='Base Case Forecast '!K23 -> 174.08791 | P18: ='Base Case Forecast '!L23 -> 170.2618 | Q18: ='Base Case Forecast '!M23 -> 166.51979 | T18: ='Bear Case Forecast'!K22 -> 174.08791 | U18: ='Bear Case Forecast'!L22 -> 170.2618 | V18: ='Bear Case Forecast'!M22 -> 166.51979 | Y18: Senior Notes due 2029 | Z18: 0.055 | AA18: 47300 | AC18: 1245 | AD18: 0.46x | AK18: Senior Notes due 2028 | AL18: 0.04 | AM18: 7/15/2028 | AN18: 1992 | AO18: 0.74x
C19: Other revenue | J19: 136 | K19: 128 | L19: 122 | M19: =31-31+L19 -> 122 | O19: ='Base Case Forecast '!K24 -> 122 | P19: ='Base Case Forecast '!L24 -> 122 | Q19: ='Base Case Forecast '!M24 -> 122 | T19: ='Bear Case Forecast'!K23 -> 122 | U19: ='Bear Case Forecast'!L23 -> 122 | V19: ='Bear Case Forecast'!M23 -> 122 | Y19: Senior Notes due 2030 | Z19: 0.04125 | AA19: 47665 | AC19: 1492 | AD19: 0.55x | AK19: Senior Notes due 2029 | AL19: 0.055 | AM19: 47125 | AN19: 1245 | AO19: 0.46x
C20: Pandora and Off-platform | Y20: Senior Notes due 2031 | Z20: 0.03875 | AA20: 48092 | AC20: 1490 | AD20: 0.55x | AK20: Senior Notes due 2030 | AL20: 0.04125 | AM20: 47490 | AN20: 1492 | AO20: 0.55x
C21: Subscriber revenue | J21: 524 | K21: 540 | L21: 526 | M21: =129-132+L21 -> 523 | O21: ='Base Case Forecast '!K26 -> 509.59842 | P21: ='Base Case Forecast '!L26 -> 508.95087 | Q21: ='Base Case Forecast '!M26 -> 496.27799 | T21: ='Bear Case Forecast'!K25 -> 509.59862 | U21: ='Bear Case Forecast'!L25 -> 499.72115 | V21: ='Bear Case Forecast'!M25 -> 471.9207 | Y21: Senior Notes due 2032 | Z21: 0.05875 | AA21: 48319 | AC21: 1236 | AD21: 0.46x | AK21: Senior Notes due 2031 | AL21: 0.03875 | AM21: 47857 | AN21: 1490 | AO21: 0.55x
C22: Advertising revenue | J22: 1589 | K22: 1606 | L22: 1615 | M22: =372-355+L22 -> 1632 | O22: ='Base Case Forecast '!K29 -> 1699.9798 | P22: ='Base Case Forecast '!L29 -> 1798.2454 | Q22: ='Base Case Forecast '!M29 -> 1984.6931 | T22: ='Bear Case Forecast'!K28 -> 1163.8113 | U22: ='Bear Case Forecast'!L28 -> 970.43738 | V22: ='Bear Case Forecast'!M28 -> 970.43738 | Y22: Finance leases | Z22: N/A | AA22: Various | AC22: 4 | AD22: 0.00x | AK22: Senior Notes due 2032 | AL22: 0.05875 | AM22: 4/15/2032 | AN22: 1236 | AO22: 0.46x
C23: Total Revenue | G23: =SUM(G16:G19) -> 0 | J23: =SUM(J16:J22) -> 8953 | K23: =SUM(K16:K22) -> 8699 | L23: =SUM(L16:L22) -> 8558 | M23: =SUM(M16:M22) -> 8581 | O23: ='Base Case Forecast '!K31 -> 8648.6409 | P23: ='Base Case Forecast '!L31 -> 8776.6857 | Q23: ='Base Case Forecast '!M31 -> 8956.7057 | T23: ='Bear Case Forecast'!K30 -> 8022.7844 | U23: ='Bear Case Forecast'!L30 -> 7801.2265 | V23: ='Bear Case Forecast'!M30 -> 7736.2264 | W23: =[129]Workings!X35 -> 25947.93 | AK23: Finance leases | AL23: N/A | AM23: Various | AN23: 4 | AO23: 0.00x
C24: Cost of services | J24: 4209 | K24: 4129 | L24: 4118 | M24: =(697+150+106+47+2)-(687+153+112+50+2)+4118 -> 4116 | O24: ='Base Case Forecast '!K34 -> 4112.2953 | P24: ='Base Case Forecast '!L34 -> 4163.4532 | Q24: ='Base Case Forecast '!M34 -> 4248.8505 | T24: ='Bear Case Forecast'!K33 -> 3810.3716 | U24: ='Bear Case Forecast'!L33 -> 3700.7184 | V24: ='Bear Case Forecast'!M33 -> 3669.8838 | AK24: Less: deferred financing costs | AL24: — | AM24: — | AN24: -13 | AO24: —
C25: Gross Profit | G25: ='[129]Annual IS'!C20 -> 30792 | J25: =J23-J24 -> 4744 | K25: =K23-K24 -> 4570 | L25: =L23-L24 -> 4440 | M25: =M23-M24 -> 4465 | O25: ='Base Case Forecast '!K35 -> 4535.3015 | P25: ='Base Case Forecast '!L35 -> 4613.2324 | Q25: ='Base Case Forecast '!M35 -> 4707.8552 | T25: ='Bear Case Forecast'!K34 -> 4200.7608 | U25: ='Bear Case Forecast'!L34 -> 4100.5081 | V25: ='Bear Case Forecast'!M34 -> 4066.3425 | W25: =[129]Workings!X39 -> 23929.521 | AK25: Total Debt | AN25: 9747 | AO25: 3.61x
C26: Subscriber acquisition costs | G26: ='[129]Annual IS'!C27 -> 23617 | J26: 359 | K26: 369 | L26: 414 | M26: =100-100+414 -> 414 | O26: ='Base Case Forecast '!K36 -> 447.97672 | P26: ='Base Case Forecast '!L36 -> 450.85572 | Q26: ='Base Case Forecast '!M36 -> 455.42718 | T26: ='Bear Case Forecast'!K35 -> 431.03762 | U26: ='Bear Case Forecast'!L35 -> 425.18388 | V26: ='Bear Case Forecast'!M35 -> 425.68016 | AK26: Less: Cash and cash equivalents | AN26: -75 | AO26: (0.03x)
C27: Sales and marketing | J27: 931 | K27: 894 | L27: 760 | M27: =187-190+760 -> 757 | O27: ='Base Case Forecast '!K37 -> 831.76779 | P27: ='Base Case Forecast '!L37 -> 835.39281 | Q27: ='Base Case Forecast '!M37 -> 843.86328 | T27: ='Bear Case Forecast'!K36 -> 800.38126 | U27: ='Bear Case Forecast'!L36 -> 787.82532 | V27: ='Bear Case Forecast'!M36 -> 788.74488 | AK27: Net Debt | AN27: 9672 | AO27: 3.58x
C28: Product and technology | J28: 322 | K28: 296 | L28: 263 | M28: =69-73+263 -> 259 | O28: ='Base Case Forecast '!K38 -> 299.59781 | P28: ='Base Case Forecast '!L38 -> 298.77384 | Q28: ='Base Case Forecast '!M38 -> 301.80326 | T28: ='Bear Case Forecast'!K37 -> 288.37258 | U28: ='Bear Case Forecast'!L37 -> 281.76158 | V28: ='Bear Case Forecast'!M37 -> 282.09046
C29: General and administrative | J29: 608 | K29: 497 | L29: 549 | M29: =122-122+549 -> 549 | O29: ='Base Case Forecast '!K39 -> 564.95653 | P29: ='Base Case Forecast '!L39 -> 573.91623 | Q29: ='Base Case Forecast '!M39 -> 579.73546 | T29: ='Bear Case Forecast'!K38 -> 543.39393 | U29: ='Bear Case Forecast'!L38 -> 541.23729 | V29: ='Bear Case Forecast'!M38 -> 541.86903
C30: EBITDA before adjustments | J30: =J25-SUM(J26:J29) -> 2524 | K30: =K25-SUM(K26:K29) -> 2514 | L30: =L25-SUM(L26:L29) -> 2454 | M30: =M25-SUM(M26:M29) -> 2486 | O30: ='Base Case Forecast '!K40 -> 2391.0027 | P30: ='Base Case Forecast '!L40 -> 2454.2938 | Q30: ='Base Case Forecast '!M40 -> 2527.026 | T30: ='Bear Case Forecast'!K39 -> 2137.5754 | U30: ='Bear Case Forecast'!L39 -> 2064.5001 | V30: ='Bear Case Forecast'!M39 -> 2027.958
C31: Adjusted EBITDA reconciliation items | O31: ='Base Case Forecast '!K41 -> 0 | P31: ='Base Case Forecast '!L41 -> 0 | Q31: ='Base Case Forecast '!M41 -> 0 | T31: ='Bear Case Forecast'!K40 -> 0 | U31: ='Bear Case Forecast'!L40 -> 0 | V31: ='Bear Case Forecast'!M40 -> 0
C32: Share-based compensation | J32: 203 | K32: 200 | L32: 181 | M32: =181+1-0 -> 182 | O32: ='Base Case Forecast '!K42 -> 207.9973 | P32: ='Base Case Forecast '!L42 -> 206.14138 | Q32: ='Base Case Forecast '!M42 -> 210.36957 | T32: ='Bear Case Forecast'!K41 -> 193.04842 | U32: ='Bear Case Forecast'!L41 -> 183.23039 | V32: ='Bear Case Forecast'!M41 -> 181.70371
C33: Legal settlements/reserves | J33: 31 | K33: 3 | L33: 30 | M33: =30+54-50 -> 34 | O33: ='Base Case Forecast '!K43 -> 1 | P33: ='Base Case Forecast '!L43 -> 0 | Q33: ='Base Case Forecast '!M43 -> 0 | T33: ='Bear Case Forecast'!K42 -> 1 | U33: ='Bear Case Forecast'!L42 -> 0 | V33: ='Bear Case Forecast'!M42 -> 0
C34: Adj. EBITDA | G34: ='[129]Annual IS'!C34 -> 9131 | J34: =J30+SUM(J32:J33) -> 2758 | K34: =K30+SUM(K32:K33) -> 2717 | L34: =L30+SUM(L32:L33) -> 2665 | M34: =M30+SUM(M32:M33) -> 2702 | O34: ='Base Case Forecast '!K44 -> 2600 | P34: ='Base Case Forecast '!L44 -> 2660.4352 | Q34: ='Base Case Forecast '!M44 -> 2737.3956 | T34: ='Bear Case Forecast'!K43 -> 2331.6239 | U34: ='Bear Case Forecast'!L43 -> 2247.7305 | V34: ='Bear Case Forecast'!M43 -> 2209.6617
C35: INTEREST EXPENSE | J35: -534 | K35: -496 | L35: -459 | M35: =(-112)-(-117)+(-459) -> -454 | O35: =AVERAGE(J35:M35) -> -485.75 | P35: =O35 -> -485.75 | Q35: =P35 -> -485.75 | T35: =AVERAGE(J35:M35) -> -485.75 | U35: =T35 -> -485.75 | V35: =U35 -> -485.75 | W35: =[129]Workings!H156 -> 4053.5323
C36: Taxes | J36: -222 | K36: -210 | L36: -251 | M36: =(-81)-(-65)+(251) -> 235 | W36: =+#REF!+W35 -> #REF!
C37: Other expenses | J37: =J34-J35-J36-J38 -> 2526 | K37: =K34-K35-K36-K38 -> 5498 | L37: =L34-L35-L36-L38 -> 2570 | M37: =M34-M35-M36-M38 -> 2076
C38: Net Income | J38: 988 | K38: -2075 | L38: 805 | M38: =245-205+805 -> 845
C40: Cash Flow Summary | J40: 2023Y | K40: 2024Y | L40: 2025 Y | M40: LTM | O40: 2026E | P40: 2027E | Q40: 2028E | R40: 2027E | T40: 2026E | U40: 2027E | V40: 2028E
C41: Adj. EBITDA | G41: =G34+#REF! -> #REF! | J41: =J34 -> 2758 | K41: =K34 -> 2717 | L41: =L34 -> 2665 | M41: =M34 -> 2702 | O41: =O34 -> 2600 | P41: =P34 -> 2660.4352 | Q41: =Q34 -> 2737.3956 | T41: =T34 -> 2331.6239 | U41: =U34 -> 2247.7305 | V41: =V34 -> 2209.6617
C42: Cash taxes | G42: =-'[129]Annual IS'!C56 -> -998 | J42: -165 | K42: -218 | L42: -156 | M42: =-(0-3+156) -> -153 | O42: ='Base Case Forecast '!K54 -> -152.19512 | P42: ='Base Case Forecast '!L54 -> -155.73279 | Q42: ='Base Case Forecast '!M54 -> -160.23779 | T42: ='Bear Case Forecast'!K53 -> -136.4853 | U42: ='Bear Case Forecast'!L53 -> -131.57447 | V42: ='Bear Case Forecast'!M53 -> -129.34605 | X42: =-[130]Financials!AN34 -> 0 | XFC42: =-XFC26 -> 0
C43: Cash interest | G43: =-'[129]Annual IS'!C52 -> -616 | J43: -507 | K43: -473 | L43: -439 | M43: =-(205-212+439) -> -432 | O43: ='Base Case Forecast '!K55 -> -425 | P43: ='Base Case Forecast '!L55 -> -386 | Q43: ='Base Case Forecast '!M55 -> -286 | T43: ='Bear Case Forecast'!K54 -> -425 | U43: ='Bear Case Forecast'!L54 -> -386 | V43: ='Bear Case Forecast'!M54 -> -286 | W43: =#REF!+W35 -> #REF!
C44: EBITDA-tax-Int | G44: =SUM(G41:G43) -> #REF! | J44: =SUM(J41:J43) -> 2086 | K44: =SUM(K41:K43) -> 2026 | L44: =SUM(L41:L43) -> 2070 | M44: =SUM(M41:M43) -> 2117 | O44: ='Base Case Forecast '!K56 -> 2022.8049 | P44: ='Base Case Forecast '!L56 -> 2118.7024 | Q44: ='Base Case Forecast '!M56 -> 2291.1578 | T44: ='Bear Case Forecast'!K55 -> 1770.1386 | U44: ='Bear Case Forecast'!L55 -> 1730.156 | V44: ='Bear Case Forecast'!M55 -> 1794.3157 | W44: =#REF!-W52*7.5% -> #REF! | Y44: Less: Cash and Cash equivalents | AC44: =M68 -> 75
C45: Working capital | G45: =SUM('[129]Cash Flow'!C16) -> 1939 | J45: =-148+98 -> -50 | K45: =-128+19 -> -109 | L45: =-84+59 -> -25 | M45: =(-84+59)+(16-295)-(45-250) -> -99 | O45: ='Base Case Forecast '!K57 -> -25.264784 | P45: ='Base Case Forecast '!L57 -> -25.638834 | Q45: ='Base Case Forecast '!M57 -> -26.164716 | T45: ='Bear Case Forecast'!K56 -> -23.436505 | U45: ='Bear Case Forecast'!L56 -> -22.789281 | V45: ='Bear Case Forecast'!M56 -> -22.599399 | W45: =SUM(W43:W44) -> #REF! | Y45: Net Debt | AC45: =M69 -> 9672
C46: Other changes in CFO** | G46: =+G47-G45-G44 -> #REF! | H46: =H47-SUM(H44:H45) -> 0 | I46: =I47-SUM(I44:I45) -> 0 | J46: =J47-SUM(J44:J45) -> -207 | K46: =K47-SUM(K44:K45) -> -176 | L46: =L47-SUM(L44:L45) -> -147 | M46: =M47-SUM(M44:M45) -> -91 | O46: ='Base Case Forecast '!K58 -> -125.04009 | P46: ='Base Case Forecast '!L58 -> -135.56357 | Q46: ='Base Case Forecast '!M58 -> -314.10145 | T46: ='Bear Case Forecast'!K57 -> -224.20206 | U46: ='Bear Case Forecast'!L57 -> -224.20206 | V46: ='Bear Case Forecast'!M57 -> -224.20206 | W46: =(R44/#REF!)*#REF! -> #REF!
...

Sheet Sheet1
B2: FY2025 revenue mix | C2: $ mm | D2: %
B3: SiriusXM | C3: =SUM('Financial One Pager'!L16:L19) -> 6417 | D3: =C3/$C$5 -> 0.74982473
B4: Pandora and Off-platform | C4: =SUM('Financial One Pager'!L21:L22) -> 2141 | D4: =C4/$C$5 -> 0.25017527
B5: Total Revenue | C5: =SUM(C3:C4) -> 8558 | D5: =C5/$C$5 -> 1
B8: $bn | C8: 2023A | D8: 2024A | E8: 2025A
B9: Revenue | C9: 8.95 | D9: 8.7 | E9: 8.56
B10: Adjusted EBITDA | C10: 2.76 | D10: 2.72 | E10: 2.67
B11: Adjusted EBITDA margin | C11: 0.308 | D11: 0.312 | E11: 0.311
B12: FCF | C12: 1.55 | D12: 1.43 | E12: 1.53
B13: Total debt | C13: 11.27 | D13: 11.36 | E13: 9.71
B14: Gross leverage (x) | C14: =C13/C10 -> 4.0833333 | D14: =D13/D10 -> 4.1764706 | E14: =E13/E10 -> 3.6367041
B17: OPERATING ASSUMPTIONS | C17: 2026E | D17: 2027E | E17: 2028E
B18: SiriusXM self-pay subscribers | C18: 31.24m | D18: 31.13m | E18: 31.02m
B19: Annual subscriber change | C19: (109k) | D19: (109k) | E19: (109k)
B20: SiriusXM ARPU/month | C20: $15.23 | D20: $15.30 | E20: $15.38
B21: Pandora monthly active users | C21: 38.9m | D21: 36.9m | E21: 35.1m
B22: Off-platform advertising revenue | C22: $0.89bn | D22: $1.02bn | E22: $1.17bn
B23: Adjusted EBITDA margin | C23: 0.301 | D23: 0.303 | E23: 0.306
B25: Capital-allocation assumptions | C25: 2026E | D25: 2027E | E25: 2028E
B26: Total capex | C26: $523m | D26: $458m | E26: $408m
B27: Satellite capex | C27: $115m | D27: $50m | E27: $0m
B28: Dividend per share | C28: $1.08 | D28: $1.08 | E28: $1.08
B29: Share repurchases | C29: $22m | D29: $0m | E29: $0m
B33: Financial forecast table | C33: 2026E | D33: 2027E | E33: 2028E
B34: Revenue | C34: $8.65bn | D34: $8.78bn | E34: $8.96bn
B35: Adjusted EBITDA | C35: $2.60bn | D35: $2.66bn | E35: $2.74bn
B36: Adjusted EBITDA margin | C36: 0.301 | D36: 0.303 | E36: 0.306
B37: Free cash flow | C37: $1.35bn | D37: $1.50bn | E37: $1.54bn
B38: FCF/total debt | C38: 0.14 | D38: 0.187 | E38: 0.239
B39: Total debt | C39: $9.64bn | D39: $8.04bn | E39: $6.47bn
B40: Gross leverage | C40: 3.7x | D40: 3.0x | E40: 2.4x
B43: Maturity wall | C43: 2026E | D43: 2027E | E43: 2028E | G43: Liquidity and coverage ($mm) | H43: 2026E | I43: 2027E | J43: 2028E
B44: Term loan/revolver repayments | C44: $0.11bn | D44: $0.34bn | E44: — | G44: Free cash flow | H44: ='Base Case Forecast '!K62 -> 1350 | I44: ='Base Case Forecast '!L62 -> 1500 | J44: ='Base Case Forecast '!M62 -> 1543.3916
B45: 5.00% senior notes | C45: — | D45: $1.25bn | E45: — | G45: EBITDA/cash interest (x) | H45: ='Base Case Forecast '!K44/ABS('Base Case Assumptions'!J44) -> 6.1176471 | I45: ='Base Case Forecast '!L44/ABS('Base Case Assumptions'!K44) -> 6.8923191 | J45: ='Base Case Forecast '!M44/ABS('Base Case Assumptions'!L44) -> 9.5713132
B46: 3.75% convertible notes | C46: — | D46: — | E46: $0.58bn | G46: Assumed refinancing | H46: ='Base Case Debt schedule'!H8 -> 0 | I46: ='Base Case Debt schedule'!I8 -> 0 | J46: ='Base Case Debt schedule'!J8 -> 1000
B47: 4.00% senior notes | C47: — | D47: — | E47: $2.00bn | G47: Ending cash | H47: ='Base Case Forecast '!K75 -> 967.71 | I47: ='Base Case Forecast '!L75 -> 507.92 | J47: ='Base Case Forecast '!M75 -> 111.27161
B48: Total maturities/repayments | C48: $0.11bn | D48: $1.59bn | E48: $2.58bn
C52: 2026E | D52: 2027E | E52: 2028E
B53: EBITDA | C53: $2,600m | D53: $2,659m | E53: $2,736m
B54: Cash interest | C54: $425m | D54: $386m | E54: $286m
...

Sheet KPIs
B2: USD '000s | C2: 2023Y | D2: 2024Y | E2: 2025Y | F2: Q1 2026 | H2: 2024 vs. 2023 | I2: 2025 vs. 2024
B3: SiriusXM | H3: SiriusXM
B4: Self-pay subscribers | C4: 31942 | D4: 31646 | E4: 31345 | F4: 31234 | H4: =D4/C4-1 -> -0.0092667961 | I4: =E4/D4-1 -> -0.0095114706
B5: Paid promotional subscribers | C5: 1933 | D5: 1580 | E5: 1582 | F5: 1545 | H5: =D5/C5-1 -> -0.18261769 | I5: =E5/D5-1 -> 0.0012658228
B6: Ending subscribers | C6: 33875 | D6: 33226 | E6: 32927 | F6: =SUM(F4:F5) -> 32779 | H6: =D6/C6-1 -> -0.019158672 | I6: =E6/D6-1 -> -0.0089989767
B7: SiriusXM Canada Subsribers | C7: 2629 | D7: 2516 | E7: 2437 | F7: 2428 | H7: =D7/C7-1 -> -0.042982122 | I7: =E7/D7-1 -> -0.031399046
B8: Weighted average subscribers | C8: 33993 | D8: 33292 | E8: 32797 | F8: 32799 | H8: =D8/C8-1 -> -0.020621893 | I8: =E8/D8-1 -> -0.014868437
B9: Average Self-pay monthly churn (ii) | C9: 0.016 | D9: 0.016 | E9: 0.015 | F9: 0.015 | H9: =D9/C9-1 -> 0 | I9: =E9/D9-1 -> -0.0625
B10: ARPU (iii) (ARPU /month) | C10: 15.56 | D10: 15.21 | E10: 15.11 | F10: 14.99 | H10: =D10/C10-1 -> -0.022493573 | I10: =E10/D10-1 -> -0.006574622
B11: SAC per installation (iv) | C11: 13.18 | D11: 14.55 | E11: 18.21 | F11: 18.8 | H11: =D11/C11-1 -> 0.10394537 | I11: =E11/D11-1 -> 0.25154639
B13: Pandora & Off-platform | H13: Pandora & Off-platform
B14: Monthly active users | C14: 46026 | D14: 43344 | E14: 41112 | F14: 40068 | H14: =D14/C14-1 -> -0.058271412 | I14: =E14/D14-1 -> -0.051495017
B15: Self-pay subscribers | C15: 6053 | D15: 5774 | E15: 5630 | F15: 5597 | H15: =D15/C15-1 -> -0.046092847 | I15: =E15/D15-1 -> -0.024939383
B16: Weighted average subscribers | C16: 6169 | D16: 5929 | E16: 5698 | F16: 5605 | H16: =D16/C16-1 -> -0.038904198 | I16: =E16/D16-1 -> -0.038961039
B17: Ad-supported listener hours (v) (in bn) | C17: 10.48 | D17: 9.94 | E17: 9.75 | F17: 2.221 | H17: =D17/C17-1 -> -0.051526718 | I17: =E17/D17-1 -> -0.019114688
B18: Ad RPM (vi) | C18: 99.39 | D18: 100.59 | E18: 91.78 | F18: 84.11 | H18: =D18/C18-1 -> 0.012073649 | I18: =E18/D18-1 -> -0.087583259
C19: =C17*C18 -> 1041.6072 | D19: =D17*D18 -> 999.8646 | E19: =E17*E18 -> 894.855 | F19: =F17*F18 -> 186.80831
B20: Note:
B21: (i) Sirius XM Canada Subscribers;
B22: (ii) Average Self-pay Monthly Churn is derived by dividing the monthly average of self-pay deactivations for the period by the average number of self-pay subscribers for the period;
B23: (iii) ARPU is derived from total earned SiriusXM subscriber revenue (excluding revenue derived from our connected vehicle services) and net advertising revenue, divided by the number of months in the period, divided by the daily weighted average number of subscribers for the period;
B24: (iv) SAC, Per Installation, is derived from subscriber acquisition costs and margins from the sale of radios, components and accessories (excluding connected vehicle services), divided by the number of satellite radio installations in new vehicles and shipments of aftermarket radios for the period.
B25: (v) Ad supported listener hours are a key indicator of Pandora business and the engagement of our Pandora listeners. Included in ad supported listener hours related to Pandora's non-music content offerings in the definition of listener hours.
B26: (vi) RPM is a key indicator of our ability to monetize advertising inventory created by listener hours on the Pandora services. Ad RPM is calculated by dividing advertising revenue by the number of thousands of listener hours of our Pandora advertising-based service.
B28: Subscribers and subscription related revenues and expenses associated with our connected vehicle services and Sirius XM
B29: Canada are not included in SiriusXM’s subscriber count or subscriber-based operating metrics. Subscribers to the Cloud Cover
B30: music programming service are now included in Pandora's subscriber count.

Sheet Revenue split
B2: Financials ($ m) | E2: 2023Y | F2: 2024Y | G2: 2025 Y | H2: Q1 2026 | I2: LTM
B4: Operating Summary
B5: SiriusXM | M5: SiriusXM | N5: Pandora
B6: Subscriber revenue | E6: =6342 -> 6342 | F6: =6076 -> 6076 | G6: =5960 -> 5960 | H6: 1483 | I6: =H6+G6-1470 -> 5973 | L6: Primary product | M6: Curated satellite/digital audio, including live sports, news and personalities | N6: Personalized music streaming/radio and podcasts
B7: Advertising revenue | E7: =169 -> 169 | F7: =167 -> 167 | G7: =157 -> 157 | H7: 35 | I7: =H7+G7-39 -> 153 | L7: Main distribution | M7: Heavily embedded in vehicles through OEM relationships | N7: Mobile, web and connected devices
B8: Equipment revenue | E8: 193 | F8: 182 | G8: 178 | H8: 41 | I8: =H8+G8-41 -> 178 | L8: Main revenue model | M8: Predominantly paid subscriptions | N8: Predominantly advertising, plus Pandora Plus/Premium subscriptions
B9: Other revenue | E9: 136 | F9: 128 | G9: 122 | H9: 31 | I9: =H9+G9-31 -> 122 | L9: User proposition | M9: “Pay for exclusive, curated and live content” | N9: “Listen free with ads or pay for personalized/on-demand music”
B10: Pandora and Off-platform
B11: Subscriber revenue | E11: 524 | F11: 540 | G11: 526 | H11: 129 | I11: =H11+G11-132 -> 523
B12: Advertising revenue | E12: 1589 | F12: 1606 | G12: 1615 | H12: 372 | I12: =H12+G12-355 -> 1632
B13: Total revenue | E13: =SUM(E6:E12) -> 8953 | F13: =SUM(F6:F12) -> 8699 | G13: =SUM(G6:G12) -> 8558 | H13: =SUM(H6:H12) -> 2091 | I13: =SUM(I6:I12) -> 8581

Sheet Modeling ->
C14: Modeling ->

Sheet Capex
B2: Forecast component ($mm) | C2: Q1 2026 | D2: Q2 2026E | E2: Q3 2026E | F2: Q4 2026E | H2: 2026E | I2: 2027E | J2: 2028E | L2: Source/Notes
B3: Software and hardware | C3: 74 | D3: =($H$3-$C$3)/3 -> 108.5 | E3: =($H$3-$C$3)/3 -> 108.5 | F3: =($H$3-$C$3)/3 -> 108.5 | H3: =H6-H4-H5 -> 399.5 | I3: =H3 -> 399.5 | J3: =I3 -> 399.5 | L3: The company disclosed: Q1 2025 software/hardware: $105 million., H1 2025 software/hardware: $205 million, implying Q2 of $100 million, Nine-month 2025 software/hardware: $292 million, implying Q3 of $87 million, and FY2025 software/hardware: $389 million, implying Q4 of $97 million.
B4: Satellite construction | C4: 29 | D4: =($H$4-$C$4)/3 -> 28.666667 | E4: =($H$4-$C$4)/3 -> 28.666667 | F4: =($H$4-$C$4)/3 -> 28.666667 | H4: 115 | I4: 50 | J4: 0 | L4: Company disclosed satellite capex to be: • 2026E = ~$115mm • 2027E = ~$50mm • 2028E = near zero
B5: Other P&E | C5: =C6-SUM(C3:C4) -> 2 | D5: =$C$5 -> 2 | E5: =$C$5 -> 2 | F5: =$C$5 -> 2 | H5: =C5+SUM(D5:F5) -> 8 | I5: =H5 -> 8 | J5: =I5 -> 8 | L5: Q1 to Q4 2026: Same as Q1 2026
B6: Total capex | C6: 105 | D6: =SUM(D3:D5) -> 139.16667 | E6: =SUM(E3:E5) -> 139.16667 | F6: =SUM(F3:F5) -> 139.16667 | H6: =AVERAGE(400,415)+H4 -> 522.5 | I6: =AVERAGE(400,415)+I4 -> 457.5 | J6: =AVERAGE(400,415)+J4 -> 407.5
F8: =SUM(C6+SUM(D6:F6)) -> 522.5

Sheet Misc.
B2: Off-platform
B3: $mm | C3: Q1 2026 | D3: Q1 2025 | E3: Q2 2025 | F3: Q3 2025 | G3: Q4 2025 | I3: 2023A | J3: 2024A | K3: 2025A
B4: Reported total Pandora and off-platform advertising revenue | C4: ='Revenue split'!H12 -> 372 | D4: 355 | E4: 394 | F4: 416 | G4: ='Revenue split'!G12-SUM(D4:F4) -> 450 | I4: ='Revenue split'!E12 -> 1589 | J4: ='Revenue split'!F12 -> 1606 | K4: ='Revenue split'!G12 -> 1615
B5: Less: Implied on-platform Pandora advertising revenue | C5: =KPIs!F17*KPIs!F18 -> 186.80831 | D5: =2.352*87.23 -> 205.16496 | E5: =2.58*85.97 -> 221.8026 | F5: =2.494*91.24 -> 227.55256 | G5: =(KPIs!E17*KPIs!E18)-SUM(D5:F5) -> 240.33488 | I5: =KPIs!C17*KPIs!C18 -> 1041.6072 | J5: =KPIs!D17*KPIs!D18 -> 999.8646 | K5: =KPIs!E17*KPIs!E18 -> 894.855
B6: Implied off-platform advertising revenue | C6: =C4-C5 -> 185.19169 | D6: =D4-D5 -> 149.83504 | E6: =E4-E5 -> 172.1974 | F6: =F4-F5 -> 188.44744 | G6: =G4-G5 -> 209.66512 | I6: =I4-I5 -> 547.3928 | J6: =J4-J5 -> 606.1354 | K6: =K4-K5 -> 720.145
B8: Q1 2026 over Q1 2025 growth | C8: =C6/D6-1 -> 0.2359705 | I8: YoY | J8: =J6/I6-1 -> 0.10731343 | K8: =K6/J6-1 -> 0.18809263 | M8: =AVERAGE(J8:K8) -> 0.14770303
I9: CAGR | J9: =(K6/I6)^(1/2)-1 -> 0.14699212 | K9: <-- 2023-2025 CAGR
B11: SiriusXM advertising ($mm)
B12: Advertising revenue ($mm) | C12: Q1 2026 | D12: Q1 2025 | E12: Q2 2025 | F12: Q3 2025 | G12: Q4 2025 | I12: 2025A | J12: 2026E
B13: Advertising revenue for quarters | C13: ='Revenue split'!H7 -> 35 | D13: 39 | E13: 38 | F13: 39 | G13: 41 | I13: =SUM(D13:G13) -> 157 | J13: =I13+(1*'Base Case Assumptions'!J26) -> 157
B14: As a % of 2025A | D14: =D13/$I$13 -> 0.24840764 | E14: =E13/$I$13 -> 0.24203822 | F14: =F13/$I$13 -> 0.24840764 | G14: =G13/$I$13 -> 0.2611465
B16: Removing Q1 2026 revenue from total 2026E revenue | C16: N/A | D16: =J13-C13 -> 122
B19: Pandora | C19: N/A | D19: Q1 2025 | E19: Q2 2025 | F19: Q3 2025 | G19: Q4 2025
B20: Monthly active users ('000s) | D20: 42357 | E20: 42684 | F20: 41562 | G20: 41112
B21: QoQ change | E21: =E20/D20-1 -> 0.0077200935 | F21: =F20/E20-1 -> -0.026286196 | G21: =G20/F20-1 -> -0.010827198
B22: Self-pay subscribers ('000s) | D22: 5705 | E22: 5706 | F22: 5691 | G22: 5630
B23: QoQ change | E23: =E22/D22-1 -> 0.00017528484 | F23: =F22/E22-1 -> -0.0026288118 | G23: =G22/F22-1 -> -0.010718679
B24: Ad supported listener hours (in billions) | D24: 2.35 | E24: 2.58 | F24: 2.49 | G24: =I24-SUM(D24:F24) -> 2.33 | I24: 9.75
B25: QoQ change | E25: =E24/D24-1 -> 0.09787234 | F25: =F24/E24-1 -> -0.034883721 | G25: =G24/F24-1 -> -0.064257028
B26: RPM ($) / month | D26: 87.23 | E26: 85.97 | F26: 91.24 | G26: =((I24*I26)-(SUM(D24:F24)*88.14))/(I24-SUM(D24:F24)) -> 103.37176 | I26: 91.78
B27: QoQ change | E27: =E26/D26-1 -> -0.014444572 | F27: =F26/E26-1 -> 0.061300454 | G27: =G26/F26-1 -> 0.13296536
B29: Revenue | C29: Q1 2026 | D29: Q1 2025 | E29: Q2 2025 | F29: Q3 2025 | G29: Q4 2025 | I29: 2025A | J29: 2026E
B30: Equipment revenue | C30: ='Revenue split'!H8 -> 41 | D30: 41 | E30: 46 | F30: 43 | G30: =I30-SUM(D30:F30) -> 48 | I30: 178
B31: As a % of 2025A | E31: =E30/$I$30 -> 0.25842697 | F31: =F30/$I$30 -> 0.24157303 | G31: =G30/$I$30 -> 0.26966292
B32: Other revenue | C32: ='Revenue split'!H9 -> 31 | D32: 31 | E32: 31 | F32: 32 | G32: =I32-SUM(D32:F32) -> 28 | I32: 122
B33: As a % of 2025A | E33: =E32/$I$32 -> 0.25409836 | F33: =F32/$I$32 -> 0.26229508 | G33: =G32/$I$32 -> 0.2295082
B36: $mm | C36: Q1 2026A
B37: Total Revenue | C37: 2091
B38: Cost of servies | C38: 986
B39: Subscriber acquisition costs | C39: 100 | E39: =C39/$C$43 -> 0.20920502
B40: Sales and marketing | C40: 187 | E40: =C40/$C$43 -> 0.39121339
B41: Product and technology | C41: 69 | E41: =C41/$C$43 -> 0.14435146
B42: Intended general and administrative expense | C42: 122 | E42: =C42/$C$43 -> 0.25523013
C43: =SUM(C39:C42) -> 478

Sheet Base Case Model -->

Sheet Base Case Assumptions
B2: Base Case | C2: Annual | F2: Quarterly | J2: Annual
B3: SiriusXM assumptions | C3: 2023A | D3: 2024A | E3: 2025A | F3: Q1 2026A | G3: Q2 2026E | H3: Q3 2026E | I3: Q4 2026E | J3: 2026E | K3: 2027E | L3: 2028E | M3: Basis | O3: Sel-pay subscribers | P3: Q1 2026 | Q3: Q1 2025 | R3: Q2 2025 | S3: Q3 2025 | T3: Q4 2025
B4: Self-pay subscribers ( '000s) +/- | D4: =D5/C5-1 -> -0.0092667961 | E4: =E5/D5-1 -> -0.0095114706 | F4: =F5/E5-1 -> -0.0035412346 | G4: =R5 -> -68 | H4: =S5 -> -40 | I4: =T5 -> 110 | J4: =J5-E5 -> -109 | K4: =J4 -> -109 | L4: =K4 -> -109 | M4: • 2026 QoQ: We base this off of 2025 QoQ movements i.e., declines / inclines (Source: SiriusXM Q2 2025 earnings release, SiriusXM Q3 2025 earnings release,SiriusXM Q4 2025 earnings release) • 2027E and 2028E: same as 2026E | O4: 000s | P4: 31234 | Q4: 31343 | R4: 31275 | S4: 31235 | T4: 31345
B5: Self-pay subscribers ( '000s) | C5: =KPIs!C4 -> 31942 | D5: =KPIs!D4 -> 31646 | E5: =KPIs!E4 -> 31345 | F5: =KPIs!F4 -> 31234 | G5: =KPIs!F4+'Base Case Assumptions'!G4 -> 31166 | H5: =G5+H4 -> 31126 | I5: =H5+I4 -> 31236 | J5: =I5 -> 31236 | K5: =J5+K4 -> 31127 | L5: =K5+L4 -> 31018 | O5: QoQ chanhe (in '000s) | R5: =R4-Q4 -> -68 | S5: =S4-R4 -> -40 | T5: =T4-S4 -> 110
B6: Paid promotional ('000s) +/- | D6: =D7-C7 -> -353 | E6: =E7-D7 -> 2 | F6: =F7-E7 -> -37 | G6: 2 | H6: 51 | I6: 8 | J6: =J7-E7 -> 24 | K6: =K7-F7 -> 61 | L6: =L7-G7 -> 59
B7: Paid promotional ('000s) | C7: =KPIs!C5 -> 1933 | D7: =KPIs!D5 -> 1580 | E7: =KPIs!E5 -> 1582 | F7: =KPIs!F5 -> 1545 | G7: =F7+G6 -> 1547 | H7: =G7+H6 -> 1598 | I7: =H7+I6 -> 1606 | J7: =I7 -> 1606 | K7: =J7 -> 1606 | L7: =K7 -> 1606
B8: Weighted average subscribers ('000s) | C8: =KPIs!C8 -> 33993 | D8: =KPIs!D8 -> 33292 | E8: =KPIs!E8 -> 32797 | F8: =KPIs!F8 -> 32799 | G8: =(F8+'Base Case Assumptions'!G5+'Base Case Assumptions'!G7)/2 -> 32756 | H8: =(G5+G7+H5+H7)/2 -> 32718.5 | I8: =(H5+H7+I5+I7)/2 -> 32783 | J8: =(F8*90+G8*91+H8*92+I8*92)/365 -> 32763.956 | K8: =(J5+J7+K5+K7)/2 -> 32787.5 | L8: =(K5+K7+L5+L7)/2 -> 32678.5 | M8: • Q2 2026: (Q1 2026 + Q2 2026 self-pay subscribers + Q2 2026 Paid promotional)/2 • Q3 & Q4 2026, 2027E, 2028E : Same as above | O8: $ | P8: Q1 2026 | Q8: Q1 2025 | R8: Q2 2025 | S8: Q3 2025 | T8: Q4 2025
B9: Churn | G9: 0.015 | H9: 0.016 | I9: 0.014 | J9: =AVERAGE(KPIs!F9,'Base Case Assumptions'!G9:I9) -> 0.015 | K9: =J9 -> 0.015 | L9: =K9 -> 0.015 | M9: • The quarterly values reproduce actual 2025 seasonality: Q2 2025: 1.5%, Q2 10-Q p. 50. Q3 2025: 1.6%, Q3 10-Q p. 51. Q4 2025: 1.4%, FY2025 release p. 10. Q1 2026 actual: 1.5%, Q1 2026 10-Q pp. 41–42. Q1’s improvement was attributed to lower vehicle-related and non-pay churn, partly offset by higher voluntary churn. Holding 1.5% thereafter assumes no additional improvement.
B10: ARPU ($) | C10: =KPIs!C10 -> 15.56 | D10: =KPIs!D10 -> 15.21 | E10: =KPIs!E10 -> 15.11 | F10: =KPIs!F10 -> 14.99 | G10: =R10+(F10-Q10) -> 15.35 | H10: =S10+P11 -> 15.32 | I10: =T10+P11 -> 15.24 | J10: =AVERAGE(F10:I10) -> 15.225 | K10: =J10*(1+0.5%) -> 15.301125 | L10: =K10*(1+0.5%) -> 15.377631 | M10: • ARPU shows quarterly seasonality and mix effects. As such, we use: Q2 2026 = Q2 2025 + (Q1 2026 - Q1 2025) Q2 2026 = $15.22 + ($14.99 - $14.86) = $15.22 + $0.13 Q3 & Q4 2026 = same as above • 2026E: Average of all quarters • 2027E and 2028E: 0.5% increase YoY. It assumes SiriusXM retains modest pricing power but recognises that promotional plans and subscriber mix can prevent headline price increases from fully flowing through to ARPU. | N10: --------------> | O10: ARPU ($) /month | P10: =F10 -> 14.99 | Q10: 14.86 | R10: 15.22 | S10: 15.19 | T10: 15.11
O11: Q1 2026 - Q1 2025 | P11: =P10-Q10 -> 0.13
B12: Pandora assumptions | C12: 2023A | D12: 2024A | E12: 2025A | F12: Q1 2026A | G12: Q2 2026E | H12: Q3 2026E | I12: Q4 2026E | J12: 2026E | K12: 2027E | L12: 2028E | M12: Basis
B13: Monthly active users multiplier (x) | D13: =D14/C14-1 -> -0.058271412 | E13: =E14/D14-1 -> -0.051495017 | F13: =F14/E14-1 -> -0.025394046 | G13: =Misc.!E21 -> 0.0077200935 | H13: =Misc.!F21 -> -0.026286196 | I13: =Misc.!G21 -> -0.010827198 | J13: 0 | K13: -0.05 | L13: -0.05 | M13: • Refer to Misc. tab (Using 2025 quarter changes as a proxy for 2026) • The company reported approximately 5% YoY MAU declines at both year-end 2025 and Q1 2026, driven by churn and fewer new users. Therefore, the 5% annual decline is continued for 2027–2028.
B14: Monthly active users ('000s) | C14: =KPIs!C14 -> 46026 | D14: =KPIs!D14 -> 43344 | E14: =KPIs!E14 -> 41112 | F14: =KPIs!F14 -> 40068 | G14: =F14*(1+'Base Case Assumptions'!G13) -> 40377.329 | H14: =G14*(1+'Base Case Assumptions'!H13) -> 39315.962 | I14: =H14*(1+'Base Case Assumptions'!I13) -> 38890.281 | J14: =I14 -> 38890.281 | K14: =J14*(1+K13) -> 36945.767 | L14: =K14*(1+L13) -> 35098.478
B15: Self-pay subscribers ('000s) changes | D15: =D16/C16-1 -> -0.046092847 | E15: =E16/D16-1 -> -0.024939383 | F15: =F16/E16-1 -> -0.0058614565 | G15: =Misc.!E23 -> 0.00017528484 | H15: =Misc.!F23 -> -0.0026288118 | I15: =Misc.!G23 -> -0.010718679 | J15: 0 | K15: -0.02 | L15: =K15 -> -0.02 | M15: • Q2 2026 = Q1 2026 + (Q2 2025 - Q1 2025). Same for Q3 and Q4 2026. • For 2027 and 2028, we use a 2% annual decline because Pandora subscribers declined by 2% in FY2025 and were also down 2% YoY in Q1 2026.
B16: Self-pay subscribers ('000s) | C16: =KPIs!C15 -> 6053 | D16: =KPIs!D15 -> 5774 | E16: =KPIs!E15 -> 5630 | F16: =KPIs!F15 -> 5597 | G16: =F16+'Base Case Assumptions'!G15 -> 5597.0002 | H16: =G16+H15 -> 5596.9975 | I16: =H16+I15 -> 5596.9868 | J16: =I16 -> 5596.9868 | K16: =J16*(1+K15) -> 5485.0471 | L16: =K16*(1+L15) -> 5375.3461
B17: Weighted average subscribers ('000s) | C17: =KPIs!C16 -> 6169 | D17: =KPIs!D16 -> 5929 | E17: =KPIs!E16 -> 5698 | F17: =KPIs!F16 -> 5605 | G17: =(G16*90+F16*90)/(90+90) -> 5597.0001 | H17: =(H16*90+G16*90)/(90+90) -> 5596.9989 | I17: =(I16*90+H16*90)/(90+90) -> 5596.9922 | J17: =(F16*90+G17*90+H17*90+I17*90)/365 -> 5520.3266 | K17: =(J16*90+K16*90)/(90+90) -> 5541.017 | L17: =(K16*90+L16*90)/(90+90) -> 5430.1966 | M17: • Q1 2026 reflects the reported daily weighted-average subscriber count. Q2–Q4 forecasts approximate weighted-average subscribers using the average of beginning and ending quarterly subscriber balances. FY2026 is day-weighted across the four quarters. • 2027E = (2026E + 2027E)/2 • 2028E = same as above
B18: Ad-supported listener hours (bn) | C18: =KPIs!C17 -> 10.48 | D18: =KPIs!D17 -> 9.94 | E18: =KPIs!E17 -> 9.75 | F18: =KPIs!F17 -> 2.221 | G18: =F18*(1+Misc.!E25) -> 2.4383745 | H18: =G18*(1+Misc.!F25) -> 2.3533149 | I18: =H18*(1+Misc.!G25) -> 2.2020979 | J18: =SUM(F18:I18) -> 9.2147872 | K18: =J18*(1+($E$18/$D$18-1)) -> 9.0386494 | L18: =K18*(1+($E$18/$D$18-1)) -> 8.8658785 | M18: • Q2 to Q4: Same as 2025 quarters • 2027E and 2028E: Same as (2025A/2024A-1)
B19: RPM ($) | C19: =KPIs!C18 -> 99.39 | D19: =KPIs!D18 -> 100.59 | E19: =KPIs!E18 -> 91.78 | F19: =KPIs!F18 -> 84.11 | G19: =$F$19*(Misc.!E26/Misc.!D26) -> 82.895067 | H19: =$F$19*(Misc.!F26/Misc.!E26) -> 89.265981 | I19: =$F$19*(Misc.!G26/Misc.!F26) -> 95.293717 | J19: =AVERAGE(F19:I19) -> 87.891191 | K19: =AVERAGE(J19,F19) -> 86.000596 | L19: =KPIs!E18 -> 91.78 | M19: • Q2 2026: Q1 2026 RPM was 3.58% below Q1 2025. Apply the same YoY reduction to each corresponding 2025 quarter. FY2026 RPM is then weighted by listener hours. • 2027: assume RPM recovers halfway from $88.50 to the 2025 level of $91.78. For 2028, assume it returns to $91.78.
B20: Implied On-platform Pandora avertising revenue | C20: =C18*C19 -> 1041.6072 | D20: =D18*D19 -> 999.8646 | E20: =E18*E19 -> 894.855 | F20: =F18*F19 -> 186.80831 | G20: =G18*G19 -> 202.12922 | H20: =H18*H19 -> 210.07096 | I20: =I18*I19 -> 209.84609 | J20: =J18*J19 -> 809.89863 | ... L20: =L18*L19 -> 813.71033 | M20: RPM excludes AdsWizz and other off-platform revenue. Therefore: Listener hours × RPM = implied on-platform Pandora advertising revenue
B21: Reported Total Pandora avertising revenue | C21: ='Revenue split'!E12 -> 1589 | D21: ='Revenue split'!F12 -> 1606 | E21: ='Revenue split'!G12 -> 1615 | F21: ='Revenue split'!H12 -> 372
B22: Implied Off-platform revenue ($mm) | C22: =C21-C20 -> 547.3928 | D22: =D21-D20 -> 606.1354 | E22: =E21-E20 -> 720.145 | F22: =F21-F20 -> 185.19169 | G22: =172.2*(1+Misc.!C8) -> 212.83412 | H22: =Misc.!F6*(1+Misc.!$C$8) -> 232.91548 | I22: =Misc.!G6*(1+Misc.!$C$8) -> 259.1399 | J22: =SUM(F22:I22) -> 890.08119 | K22: =J22*(1+Misc.!$J$9) -> 1020.9161 | L22: =K22*(1+Misc.!$J$9) -> 1170.9827 | M22: • Q2 2026 off-platform revenue is forecast by applying Q1 2026’s implied 23.6% YoY off-platform growth rate to Q2 2025 implied off-platform revenue. Historical off-platform revenue is derived as reported Pandora and off-platform advertising revenue less listener hours multiplied by RPM. • SiriusXM reported Pandora advertising revenue of $372m in Q1 2026 versus $355m in Q1 2025 and said growth came from podcasts, programmatic demand and technology fees. It also expects growth from “off-platform monetization, including through podcasts” and higher technology fees. Q1 2026 Form 10-Q, printed pg 36.
B24: Revenue-growth assumptions | C24: 2023A | D24: 2024A | E24: 2025A | F24: Q1 2026A | G24: Q2 2026 | H24: Q3 2026 | I24: Q4 2026 | J24: 2026E | K24: 2027E | L24: 2028E | M24: Status
B25: SiriusXM advertising ($mm) | C25: ='Revenue split'!E7 -> 169 | D25: ='Revenue split'!F7 -> 167 | E25: ='Revenue split'!G7 -> 157 | F25: ='Revenue split'!H7 -> 35 | G25: =Misc.!E13 -> 38 | H25: =Misc.!F13 -> 39 | I25: =Misc.!G13 -> 41 | J25: =157*(1 + 0%) -> 157 | M25: • Using 2025 quarterly nos. as proxy for 2026
B26: SiriusXM advertising | C26: ='Revenue split'!E7/'Revenue split'!E13 -> 0.018876354 | D26: ='Revenue split'!F7/'Revenue split'!F13 -> 0.019197609 | E26: ='Revenue split'!G7/'Revenue split'!G13 -> 0.018345408 | F26: ='Revenue split'!H7/'Revenue split'!H13 -> 0.016738403 | G26: =((($E$25*(1+$J26)-$F$25)*G25/SUM($G$25:$I$25))/$F$25)-1 -> 0.12251816 | H26: =H25/G25-1 -> 0.026315789 | I26: =I25/H25-1 -> 0.051282051 | J26: 0 | K26: 0 | L26: 0 | M26: • Latest management guidance indicates SiriusXM advertising revenue will remain relatively flat. FY2026–FY2028 revenue is therefore held flat, with Q2–Q4 2026 distributed using the 2025 quarterly seasonal pattern.
B27: Equipment revenue | C27: N/A | D27: N/A | E27: N/A | F27: N/A | G27: =((('Revenue split'!$G$8*(1+$J27)-'Revenue split'!$H$8)*Misc.!E30/SUM(Misc.!E30:G30))/'Revenue split'!$H$8)-1 -> 0.089913469 | H27: =Misc.!F30/Misc.!E30-1 -> -0.065217391 | I27: =Misc.!G30/Misc.!F30-1 -> 0.11627907 | J27: ='Revenue split'!G8/'Revenue split'!F8-1 -> -0.021978022 | K27: =J27 -> -0.021978022 | L27: =K27 -> -0.021978022 | M27: • Management expects equipment revenue to decline due to the transition to next-generation chipsets. • The model applies the 2025 actual decline of 2.2% annually, with quarterly revenue distributed using the 2025 seasonal pattern.
B28: Other revenue | C28: N/A | D28: ='Revenue split'!F9/'Revenue split'!E9-1 -> -0.058823529 | E28: ='Revenue split'!G9/'Revenue split'!F9-1 -> -0.046875 | F28: N/A | G28: =((('Revenue split'!$G$9*(1+$J28)-'Revenue split'!$H$9)*Misc.!E32/SUM(Misc.!E32:G32))/'Revenue split'!$H$9)-1 -> 0 | H28: =Misc.!F32/Misc.!E32-1 -> 0.032258065 | I28: =Misc.!G32/Misc.!F32-1 -> -0.125 | J28: 0 | K28: 0 | L28: 0 | M28: • Management expects other revenue to remain relatively flat. ̐• Annual revenue is held at the FY2025 level, while Q2–Q4 2026 follows the 2025 quarterly seasonal pattern.
B29: Pandora revenue per subscriber growth (%) | C29: N/A | D29: N/A | E29: N/A | F29: N/A | G29: 0 | H29: 0 | I29: 0 | J29: =I29 -> 0 | K29: -0.005 | L29: =K29 -> -0.005 | M29: • Held flat in 2026 because Q1 2026 implied revenue per subscriber was broadly unchanged YoY. • A modest 0.5% annual decline is assumed in 2027–2028, partially offsetting but not eliminating the impact of subscriber attrition. • The model assumes subscriber revenue declines mainly due to fewer subscribers, with pricing broadly offsetting some attrition. SiriusXM said Q1 subscriber revenue declined primarily because of the smaller subscriber base and expects subscriber revenue to decline modestly.
B32: Consolidated cost and EBITDA assumptions | C32: 2023A | D32: 2024A | E32: 2025A | F32: Q1 2026A | G32: Q2 2026 | H32: Q3 2026 | I32: Q4 2026 | J32: 2026E | K32: 2027E | L32: 2028E | M32: Basis
B33: Cost of services (as a % of revenue) | C33: ='Financial One Pager'!J24/'Financial One Pager'!J23 -> 0.47012175 | D33: ='Financial One Pager'!K24/'Financial One Pager'!K23 -> 0.47465226 | E33: ='Financial One Pager'!L24/'Financial One Pager'!L23 -> 0.48118719 | F33: ='Financial One Pager'!M24/'Financial One Pager'!M23 -> 0.47966437 | G33: =$J$33 -> 0.47437648 | H33: =$J$33 -> 0.47437648 | I33: =$J$33 -> 0.47437648 | J33: =AVERAGE(C33:E33,Misc.!C38/Misc.!C37) -> 0.47437648 | K33: =J33 -> 0.47437648 | L33: =K33 -> 0.47437648 | M33: • Base cost-of-services ratio set to the average of FY2025 actual inclusive cost of services / revenue and Q1 2026 actual inclusive cost of services / revenue. Held flat thereafter; detailed quarterly and outer-year mix by segment is unspecified.
B34: Share-based compensation (as a % of revenue) | C34: N/A | D34: N/A | E34: N/A | F34: N/A | G34: =$J$34 -> 0.023487383 | H34: =$J$34 -> 0.023487383 | I34: =$J$34 -> 0.023487383 | J34: =AVERAGE('Financial One Pager'!L32/'Financial One Pager'!L23,54/2091) -> 0.023487383 | K34: =J34 -> 0.023487383 | L34: =K34 -> 0.023487383 | M34: • Share-based compensation ratio set to the average of FY2025 actual and Q1 2026 actual. No formal long-term Share-Based Compensation guide is disclosed, so the ratio is held flat.
B35: Legal settlements / reserves | C35: N/A | D35: N/A | E35: N/A | F35: N/A | G35: =0 -> 0 | H35: =0 -> 0 | I35: =0 -> 0 | J35: =1 -> 1 | K35: 0 | L35: 0 | M35: • Only Q1 2026 actual legal settlements / reserves of $1mm are included in FY2026. No forward one-off settlements are assumed absent specific disclosure.
B36: Adjusted EBITDA margin target | C36: N/A | D36: N/A | E36: N/A | F36: N/A | G36: N/A | H36: N/A | I36: N/A | J36: =2600/'Base Case Forecast '!K31 -> 0.30062527 | K36: =J36+0.0025 -> 0.30312527 | L36: =K36+0.0025 -> 0.30562527 | M36: • FY2026 adjusted EBITDA is anchored to management’s approximately $2.6bn guidance. • FY2027-FY2028 assume 25 bps annual margin expansion from operating leverage; specific outer-year company guidance is unspecified
B37: Subscriber acquisition costs mix of below-gross opex | C37: ='Financial One Pager'!J26/'Financial One Pager'!J23 -> 0.040098291 | D37: ='Financial One Pager'!K26/'Financial One Pager'!K23 -> 0.042418669 | E37: ='Financial One Pager'!L26/'Financial One Pager'!L23 -> 0.048375789 | F37: N/A | G37: =$J$37 -> 0.20883212 | H37: =$J$37 -> 0.20883212 | I37: =$J$37 -> 0.20883212 | J37: =AVERAGE('Financial One Pager'!L26/SUM('Financial One Pager'!L26:L29),Misc.!E39) -> 0.20883212 | K37: =J37 -> 0.20883212 | L37: =K37 -> 0.20883212 | M37: • Residual below-gross opex is allocated using the average of FY2025 actual and Q1 2026 actual functional cost mix.
B38: Sales and marketing mix of below-gross opex | C38: ='Financial One Pager'!J27/'Financial One Pager'!J24 -> 0.22119268 | D38: ='Financial One Pager'!K27/'Financial One Pager'!K24 -> 0.21651732 | E38: ='Financial One Pager'!L27/'Financial One Pager'!L24 -> 0.18455561 | F38: N/A | G38: =$J$38 -> 0.38694607 | H38: =$J$38 -> 0.38694607 | I38: =$J$38 -> 0.38694607 | J38: =AVERAGE('Financial One Pager'!L27/SUM('Financial One Pager'!L26:'Financial One Pager'!L29),Misc.!E40) -> 0.38694607 | K38: =J38 -> 0.38694607 | L38: =K38 -> 0.38694607 | M38: Same residual-allocation methodology as above.
B39: Product and technology mix of below-gross opex | C39: ='Financial One Pager'!J28/'Financial One Pager'!J25 -> 0.067875211 | D39: ='Financial One Pager'!K28/'Financial One Pager'!K25 -> 0.064770241 | E39: ='Financial One Pager'!L28/'Financial One Pager'!L25 -> 0.059234234 | F39: N/A | G39: =$J$39 -> 0.13838923 | H39: =$J$39 -> 0.13838923 | I39: =$J$39 -> 0.13838923 | J39: =AVERAGE('Financial One Pager'!L28/SUM('Financial One Pager'!L26:'Financial One Pager'!L29),Misc.!E41) -> 0.13838923 | K39: =J39 -> 0.13838923 | L39: =K39 -> 0.13838923 | M39: Same residual-allocation methodology as above.
B40: General and administrative mix of below-gross opex | C40: ='Financial One Pager'!J29/'Financial One Pager'!J26 -> 1.6935933 | D40: ='Financial One Pager'!K29/'Financial One Pager'!K26 -> 1.3468835 | E40: ='Financial One Pager'!L29/'Financial One Pager'!L26 -> 1.326087 | F40: N/A | G40: =$J$40 -> 0.26583259 | H40: =$J$40 -> 0.26583259 | I40: =$J$40 -> 0.26583259 | J40: =1-SUM(J37:J39) -> 0.26583259 | K40: =J40 -> 0.26583259 | L40: =K40 -> 0.26583259 | M40: Residual balancing line so below-gross opex mix sums to 100%.
B42: CFS ($mm) | C42: 2023A | D42: 2024A | E42: 2025A | F42: Q1 2026A | G42: Q2 2026 | H42: Q3 2026 | I42: Q4 2026 | J42: 2026E | K42: 2027E | L42: 2028E | M42: Basis
B43: Cash taxes paid as a % of EBITDA | C43: =-'Financial One Pager'!J42/'Financial One Pager'!J41 -> 0.059825961 | D43: =-'Financial One Pager'!K42/'Financial One Pager'!K41 -> 0.080235554 | E43: =-'Financial One Pager'!L42/'Financial One Pager'!L41 -> 0.058536585 | F43: =-'Financial One Pager'!M42/'Financial One Pager'!M41 -> 0.056624722 | G43: N/A | H43: N/A | I43: N/A | J43: =-'Financial One Pager'!L42/'Financial One Pager'!L34 -> 0.058536585 | K43: =J43 -> 0.058536585 | L43: =K43 -> 0.058536585 | M43: • FY2025 cash taxes paid of $156m divided by FY2025 Adjusted EBITDA of $2,665m, giving a 5.85% cash-tax-to-EBITDA rate. SiriusXM paid no cash income taxes in Q1 2026, reflecting payment timing rather than a sustainable zero-cash-tax rate. The FY2025 normalized rate is therefore used for the forecast period. • The Q1 2026 filing reports $0 cash income taxes paid, compared with $3 million in Q1 2025.
B44: Cash interest paid | C44: ='Financial One Pager'!J43 -> -507 | D44: ='Financial One Pager'!K43 -> -473 | E44: ='Financial One Pager'!L43 -> -439 | F44: -205 | G44: =($J$44+205)/3 -> -73.333333 | H44: =($J$44+205)/3 -> -73.333333 | I44: =($J$44+205)/3 -> -73.333333 | J44: =-425 -> -425 | K44: -386 | L44: -286 | M44: • See adjacent screenshot • Q1 2026: $205.00mm • Q2 to Q4: (2026 - Q1 2026)/3
B45: Working capital as a % of revenue | C45: ='Financial One Pager'!J45/'Financial One Pager'!J23 -> -0.0055847202 | D45: ='Financial One Pager'!K45/'Financial One Pager'!K23 -> -0.012530176 | E45: ='Financial One Pager'!L45/'Financial One Pager'!L23 -> -0.0029212433 | F45: ='Financial One Pager'!M45/'Financial One Pager'!M23 -> -0.011537117 | G45: N/A | H45: N/A | I45: N/A | J45: ='Financial One Pager'!L45/'Financial One Pager'!L23 -> -0.0029212433 | K45: =J45 -> -0.0029212433 | L45: =K45 -> -0.0029212433 | M45: • Using 2025 as a proxy for 2026
...

Sheet Base Case Forecast 
B2: KPIs ( '000s) | C2: 2023A | D2: 2024A | E2: 2025A | F2: Q1 2026A | G2: Q2 2026E | H2: Q3 2026E | I2: Q4 2026E | K2: 2026E | L2: 2027E | M2: 2028E
B3: SiriusXM
B4: Self-pay subscribers | C4: =KPIs!C4 -> 31942 | D4: =KPIs!D4 -> 31646 | E4: =KPIs!E4 -> 31345 | F4: =KPIs!F4 -> 31234 | G4: =KPIs!F4+'Base Case Assumptions'!G4 -> 31166 | H4: =G4+'Base Case Assumptions'!H4 -> 31126 | I4: =H4+'Base Case Assumptions'!I4 -> 31236 | K4: =I4 -> 31236 | L4: ='Base Case Assumptions'!K5 -> 31127 | M4: ='Base Case Assumptions'!L5 -> 31018
B5: Paid promotional subscribers | C5: =KPIs!C5 -> 1933 | D5: =KPIs!D5 -> 1580 | E5: =KPIs!E5 -> 1582 | F5: =KPIs!F5 -> 1545 | G5: =KPIs!F5+'Base Case Assumptions'!G6 -> 1547 | H5: =G5+'Base Case Assumptions'!H6 -> 1598 | I5: =H5+'Base Case Assumptions'!I6 -> 1606 | K5: =I5 -> 1606 | L5: ='Base Case Assumptions'!K7 -> 1606 | M5: ='Base Case Assumptions'!L7 -> 1606
B6: Ending subscribers | C6: =C4+C5 -> 33875 | D6: =D4+D5 -> 33226 | E6: =E4+E5 -> 32927 | F6: =KPIs!F6 -> 32779 | G6: =SUM(G4:G5) -> 32713 | H6: =SUM(H4:H5) -> 32724 | I6: =SUM(I4:I5) -> 32842 | K6: =SUM(K4:K5) -> 32842 | L6: =SUM(L4:L5) -> 32733 | M6: =SUM(M4:M5) -> 32624
B7: Weighted average subscribers | C7: =KPIs!C8 -> 33993 | D7: =KPIs!D8 -> 33292 | E7: =KPIs!E8 -> 32797 | F7: =KPIs!F8 -> 32799 | G7: ='Base Case Assumptions'!G8 -> 32756 | H7: ='Base Case Assumptions'!H8 -> 32718.5 | I7: ='Base Case Assumptions'!I8 -> 32783 | K7: ='Base Case Assumptions'!J8 -> 32763.956 | L7: ='Base Case Assumptions'!K8 -> 32787.5 | M7: ='Base Case Assumptions'!L8 -> 32678.5
B8: Average self-pay monthly churn | C8: =KPIs!C9 -> 0.016 | D8: =KPIs!D9 -> 0.016 | E8: =KPIs!E9 -> 0.015 | F8: =KPIs!F9 -> 0.015 | G8: ='Base Case Assumptions'!G9 -> 0.015 | H8: ='Base Case Assumptions'!H9 -> 0.016 | I8: ='Base Case Assumptions'!I9 -> 0.014 | K8: ='Base Case Assumptions'!J9 -> 0.015 | L8: ='Base Case Assumptions'!K9 -> 0.015 | M8: ='Base Case Assumptions'!L9 -> 0.015
B9: ARPU ($) / month | C9: =KPIs!C10 -> 15.56 | D9: =KPIs!D10 -> 15.21 | E9: =KPIs!E10 -> 15.11 | F9: =KPIs!F10 -> 14.99 | G9: ='Base Case Assumptions'!G10 -> 15.35 | H9: ='Base Case Assumptions'!H10 -> 15.32 | I9: ='Base Case Assumptions'!I10 -> 15.24 | K9: ='Base Case Assumptions'!J10 -> 15.225 | L9: ='Base Case Assumptions'!K10 -> 15.301125 | M9: ='Base Case Assumptions'!L10 -> 15.377631
B10: Pandora & Off-platform
B11: Monthly active users - all services | C11: 46,026 | D11: 43344 | E11: 41112 | F11: =KPIs!F14 -> 40068 | G11: =F11*(1+'Base Case Assumptions'!G13) -> 40377.329 | H11: =G11*(1+'Base Case Assumptions'!H13) -> 39315.962 | I11: =H11*(1+'Base Case Assumptions'!I13) -> 38890.281 | K11: =I11 -> 38890.281 | L11: =K11*(1+'Base Case Assumptions'!K13) -> 36945.767 | M11: =L11*(1+'Base Case Assumptions'!L13) -> 35098.478
B12: Self-pay subscribers | C12: =KPIs!C15 -> 6053 | D12: =KPIs!D15 -> 5774 | E12: =KPIs!E15 -> 5630 | F12: =KPIs!F15 -> 5597 | G12: ='Base Case Assumptions'!G16 -> 5597.0002 | H12: ='Base Case Assumptions'!H16 -> 5596.9975 | I12: ='Base Case Assumptions'!I16 -> 5596.9868 | K12: ='Base Case Assumptions'!J16 -> 5596.9868 | L12: ='Base Case Assumptions'!K16 -> 5485.0471 | M12: ='Base Case Assumptions'!L16 -> 5375.3461
B13: Weighted average subscribers | C13: =KPIs!C16 -> 6169 | D13: =KPIs!D16 -> 5929 | E13: =KPIs!E16 -> 5698 | F13: =KPIs!F16 -> 5605 | G13: ='Base Case Assumptions'!G17 -> 5597.0001 | H13: ='Base Case Assumptions'!H17 -> 5596.9989 | I13: ='Base Case Assumptions'!I17 -> 5596.9922 | K13: ='Base Case Assumptions'!J17 -> 5520.3266 | L13: ='Base Case Assumptions'!K17 -> 5541.017 | M13: ='Base Case Assumptions'!L17 -> 5430.1966
B14: Ad-supported listener hours, bn | C14: =KPIs!C17 -> 10.48 | D14: =KPIs!D17 -> 9.94 | E14: =KPIs!E17 -> 9.75 | F14: =KPIs!F17 -> 2.221 | G14: ='Base Case Assumptions'!G18 -> 2.4383745 | H14: ='Base Case Assumptions'!H18 -> 2.3533149 | I14: ='Base Case Assumptions'!I18 -> 2.2020979 | K14: ='Base Case Assumptions'!J18 -> 9.2147872 | L14: ='Base Case Assumptions'!K18 -> 9.0386494 | M14: ='Base Case Assumptions'!L18 -> 8.8658785
B15: Advertising revenue per thousand listener hours (RPM) ($) | C15: =KPIs!C18 -> 99.39 | D15: =KPIs!D18 -> 100.59 | E15: =KPIs!E18 -> 91.78 | F15: =KPIs!F18 -> 84.11 | G15: ='Base Case Assumptions'!G19 -> 82.895067 | H15: ='Base Case Assumptions'!H19 -> 89.265981 | I15: ='Base Case Assumptions'!I19 -> 95.293717 | K15: ='Base Case Assumptions'!J19 -> 87.891191 | L15: ='Base Case Assumptions'!K19 -> 86.000596 | M15: ='Base Case Assumptions'!L19 -> 91.78
B17: Off-platform revenue ($mm) | C17: ='Revenue split'!E12-(C14*C15) -> 547.3928 | D17: ='Revenue split'!F12-(D14*D15) -> 606.1354 | E17: ='Revenue split'!G12-(E14*E15) -> 720.145 | F17: ='Revenue split'!H12-(F14*F15) -> 185.19169 | G17: ='Base Case Assumptions'!G22 -> 212.83412 | H17: ='Base Case Assumptions'!H22 -> 232.91548 | I17: ='Base Case Assumptions'!I22 -> 259.1399 | K17: ='Base Case Assumptions'!J22 -> 890.08119 | L17: ='Base Case Assumptions'!K22 -> 1020.9161 | M17: ='Base Case Assumptions'!L22 -> 1170.9827
B20: SiriusXM Revenue ($mm) | C20: 2023A | D20: 2024A | E20: 2025A | F20: Q1 2026A | G20: Q2 2026E | H20: Q3 2026E | I20: Q4 2026E | K20: 2026E | L20: 2027E | M20: 2028E
B21: Subscriber revenue | C21: ='Revenue split'!E6 -> 6342 | D21: ='Revenue split'!F6 -> 6076 | E21: ='Revenue split'!G6 -> 5960 | F21: ='Revenue split'!H6 -> 1483 | G21: =($K$21-$F$21)*(G7*G9)/SUMPRODUCT($G$7:$I$7,$G$9:$I$9) -> 1505.732 | H21: =($K$21-$F$21)*(H7*H9)/SUMPRODUCT($G$7:$I$7,$G$9:$I$9) -> 1501.0688 | I21: =($K$21-$F$21)*(I7*I9)/SUMPRODUCT($G$7:$I$7,$G$9:$I$9) -> 1496.174 | K21: =K7*K9*12/1000 -> 5985.9748 | L21: =L7*L9*12/1000 -> 6020.2276 | M21: =M7*M9*12/1000 -> 6030.2148 | O21: =Weighted-average subscribers × ARPU x 12/1000
B22: Advertising revenue | C22: ='Revenue split'!E7 -> 169 | D22: ='Revenue split'!F7 -> 167 | E22: ='Revenue split'!G7 -> 157 | F22: ='Revenue split'!H7 -> 35 | G22: =F22*(1+'Base Case Assumptions'!G26) -> 39.288136 | H22: =G22*(1+'Base Case Assumptions'!H26) -> 40.322034 | I22: =H22*(1+'Base Case Assumptions'!I26) -> 42.389831 | K22: =SUM(F22:I22) -> 157 | L22: =K22*(1+'Base Case Assumptions'!K26) -> 157 | M22: =L22*(1+'Base Case Assumptions'!L26) -> 157
B23: Equipment revenue | C23: ='Revenue split'!E8 -> 193 | D23: ='Revenue split'!F8 -> 182 | E23: ='Revenue split'!G8 -> 178 | F23: ='Revenue split'!H8 -> 41 | G23: =F23*(1+'Base Case Assumptions'!G27) -> 44.686452 | H23: =G23*(1+'Base Case Assumptions'!H27) -> 41.772118 | I23: =H23*(1+'Base Case Assumptions'!I27) -> 46.629341 | K23: ='Revenue split'!G8*(1+'Base Case Assumptions'!J27) -> 174.08791 | L23: =K23*(1+'Base Case Assumptions'!K27) -> 170.2618 | M23: =L23*(1+'Base Case Assumptions'!L27) -> 166.51979
B24: Other revenue | C24: ='Revenue split'!E9 -> 136 | D24: ='Revenue split'!F9 -> 128 | E24: ='Revenue split'!G9 -> 122 | F24: ='Revenue split'!H9 -> 31 | G24: =F24*(1+'Base Case Assumptions'!G28) -> 31 | H24: =G24*(1+'Base Case Assumptions'!H28) -> 32 | I24: =H24*(1+'Base Case Assumptions'!I28) -> 28 | K24: ='Revenue split'!G9*(1+'Base Case Assumptions'!J28) -> 122 | L24: =K24*(1+'Base Case Assumptions'!K28) -> 122 | M24: =L24*(1+'Base Case Assumptions'!L28) -> 122
B25: Pandora and Off-platform revenue ($mm) | C25: 2023A | D25: 2024A | E25: 2025A | F25: Q1 2026A | G25: Q2 2026E | H25: Q3 2026E | I25: Q4 2026E | K25: 2026E | L25: 2027E | M25: 2028E
B26: Subscriber revenue | C26: ='Revenue split'!E11 -> 524 | D26: ='Revenue split'!F11 -> 540 | E26: ='Revenue split'!G11 -> 526 | F26: ='Revenue split'!H11 -> 129 | G26: =($K$26-$F$26)*G13/SUM($G$13:$I$13) -> 126.86621 | H26: =($K$26-$F$26)*H13/SUM($G$13:$I$13) -> 126.86618 | I26: =($K$26-$F$26)*I13/SUM($G$13:$I$13) -> 126.86603 | K26: ='Revenue split'!G11*(K13/KPIs!E16)*(1+'Base Case Assumptions'!J29) -> 509.59842 | L26: =K26*(L13/K13)*(1+'Base Case Assumptions'!K29) -> 508.95087 | M26: =L26*(M13/L13)*(1+'Base Case Assumptions'!L29) -> 496.27799 | O26: FY2026 subscriber revenue = FY2025 subscriber revenue × change in weighted-average subscribers × price/mix adjustment
B27: On-platform advertising (Pandora) | C27: =C14*C15 -> 1041.6072 | D27: =D14*D15 -> 999.8646 | E27: =E14*E15 -> 894.855 | F27: =F14*F15 -> 186.80831 | G27: =G14*G15 -> 202.12922 | H27: =H14*H15 -> 210.07096 | I27: =I14*I15 -> 209.84609 | K27: =K14*K15 -> 809.89863 | L27: =L14*L15 -> 777.32924 | M27: =M14*M15 -> 813.71033 | O27: RPM excludes AdsWizz and other off-platform revenue. Therefore: Listener hours × RPM = implied on-platform Pandora advertising revenue
B28: Off-platform advertising (Other audio platforms) | C28: ='Revenue split'!E12-'Base Case Forecast '!C27 -> 547.3928 | D28: ='Revenue split'!F12-'Base Case Forecast '!D27 -> 606.1354 | E28: ='Revenue split'!G12-'Base Case Forecast '!E27 -> 720.145 | F28: =F17 -> 185.19169 | G28: =G17 -> 212.83412 | H28: =H17 -> 232.91548 | I28: =I17 -> 259.1399 | K28: =K17 -> 890.08119 | L28: =L17 -> 1020.9161 | M28: =M17 -> 1170.9827
B29: Total Pandora advertising revenue | C29: =SUM(C27:C28) -> 1589 | D29: =SUM(D27:D28) -> 1606 | E29: =SUM(E27:E28) -> 1615 | F29: =F27+F28 -> 372 | G29: =G27+G28 -> 414.96334 | H29: =H27+H28 -> 442.98644 | I29: =I27+I28 -> 468.98599 | K29: =K27+K28 -> 1699.9798 | L29: =L27+L28 -> 1798.2454 | M29: =M27+M28 -> 1984.6931
B30: Consolidated revenue and EBITDA | C30: 2023A | D30: 2024A | E30: 2025A | F30: Q1 2026A | G30: Q2 2026E | H30: Q3 2026E | I30: Q4 2026E | K30: 2026E | L30: 2027E | M30: 2028E
B31: Total Revenue | C31: =SUM(C21:C24,C26,C29) -> 8953 | D31: =SUM(D21:D24,D26,D29) -> 8699 | E31: =SUM(E21:E24,E26,E29) -> 8558 | F31: =SUM(F21:F24,F26,F29) -> 2091 | G31: =SUM(G21:G24,G26,G29) -> 2162.5361 | H31: =SUM(H21:H24,H26,H29) -> 2185.0156 | I31: =SUM(I21:I24,I26,I29) -> 2209.0452 | K31: =SUM(K21:K24,K26,K29) -> 8648.6409 | L31: =SUM(L21:L24,L26,L29) -> 8776.6857 | M31: =SUM(M21:M24,M26,M29) -> 8956.7057
B32: Revenue growth | D32: =D31/C31-1 -> -0.028370379 | E32: =E31/D31-1 -> -0.01620876 | G32: =G31/F31-1 -> 0.034211452 | H32: =H31/G31-1 -> 0.010394928 | I32: =I31/H31-1 -> 0.010997469 | K32: =K31/'Revenue split'!G13-1 -> 0.010591369 | L32: =L31/K31-1 -> 0.014805183 | M32: =M31/L31-1 -> 0.020511162
B34: Cost of services | C34: ='Financial One Pager'!J24 -> 4209 | D34: ='Financial One Pager'!K24 -> 4129 | E34: ='Financial One Pager'!L24 -> 4118 | F34: =1002 -> 1002 | G34: =G31*'Base Case Assumptions'!G33 -> 1025.8563 | H34: =H31*'Base Case Assumptions'!H33 -> 1036.52 | I34: =I31*'Base Case Assumptions'!I33 -> 1047.9191 | K34: =SUM(F34:I34) -> 4112.2953 | L34: =L31*'Base Case Assumptions'!K33 -> 4163.4532 | M34: =M31*'Base Case Assumptions'!L33 -> 4248.8505
B35: Gross Profit | C35: ='Financial One Pager'!J25 -> 4744 | D35: ='Financial One Pager'!K25 -> 4570 | E35: ='Financial One Pager'!L25 -> 4440 | F35: =F31-F34 -> 1089 | G35: =G31-G34 -> 1136.6799 | H35: =H31-H34 -> 1148.4956 | I35: =I31-I34 -> 1161.1261 | K35: =SUM(F35:I35) -> 4535.3015 | L35: =L31-L34 -> 4613.2324 | M35: =M31-M34 -> 4707.8552
